BEGIN:VCALENDAR
VERSION:2.0
PRODID:-//Museum of Durham History//NONSGML Events//EN
METHOD:REQUEST
BEGIN:VEVENT
UID:20260423T083340-525609946-modh
DTSTAMP:20260423T083340
DTSTART:20250412T110000
DTEND:20250412T130000
SUMMARY:Panel Discussion Honoring Joyce Clayton Thorpe Nichols at Library Fest 2025
DESCRIPTION:The Museum of Durham History is proud to present a special panel discussion (FREE and open to the public) honoring the legacy of Joyce Clayton Thorpe Nichols (1940-2012), the first female Physician Assistant (PA) in the United States and a tireless advocate for fair housing, healthcare, and social...
END:VEVENT
END:VCALENDAR
