BEGIN:VCALENDAR
VERSION:2.0
PRODID:-//Museum of Durham History//NONSGML Events//EN
METHOD:REQUEST
BEGIN:VEVENT
UID:20260423T064542-1886047793-modh
DTSTAMP:20260423T064542
DTSTART:20250117T180000
DTEND:20250117T200000
SUMMARY:&#8220;Our History, Our Voice: Latinés at Duke&#8221; Exhibit Opening at the Museum of Durham History
DESCRIPTION:The Museum of Durham History is excited to announce the newest addition to its ongoing 100 Years of Duke: Names to Remember exhibit: Our History, Our Voice: Latinés at Duke. This student-curated banner exhibit, which lines the Museum’s sidewalk entrance, explores the significant yet often overlooked history of Latiné...
END:VEVENT
END:VCALENDAR
