BEGIN:VCALENDAR
VERSION:2.0
PRODID:-//Museum of Durham History//NONSGML Events//EN
METHOD:REQUEST
BEGIN:VEVENT
UID:20260423T081515-1682175367-modh
DTSTAMP:20260423T081515
DTSTART:20241211T180000
DTEND:20241211T190000
SUMMARY:History Among Friends with Dr. Adam Rosenblatt
DESCRIPTION:Join Preservation Durham and the Museum of Durham History for a FREE conversation between Adam Rosenblatt, PhD and Debra Taylor Gonzalez-Garcia, President of the local organization Friends of Geer Cemetery and Vice-President of Preservation Durham. This 6th installation in the History Among Friends book talk series will take place...
END:VEVENT
END:VCALENDAR
