BEGIN:VCALENDAR
VERSION:2.0
PRODID:-//Museum of Durham History//NONSGML Events//EN
METHOD:REQUEST
BEGIN:VEVENT
UID:20260423T100523-80049839-modh
DTSTAMP:20260423T100523
DTSTART:20241027T100000
DTEND:20241027T000000
SUMMARY:Neighborhood History Hike with John Schelp
DESCRIPTION:Why did the creek run blue on Monday and red on Tuesday? Who wrote the song, “Tobacco Road” and was born behind Monuts? Where did Madonna take early dance lessons? What’s buried under Duke Hospital? Where does “Bull Durham” tobacco come from? Who lived on the hilltops and...
END:VEVENT
END:VCALENDAR
