BEGIN:VCALENDAR
VERSION:2.0
PRODID:-//Museum of Durham History//NONSGML Events//EN
METHOD:REQUEST
BEGIN:VEVENT
UID:20260423T100359-1245741442-modh
DTSTAMP:20260423T100359
DTSTART:20240920T180000
DTEND:20240920T200000
SUMMARY:&#8220;100 Years of Duke: Names to Remember&#8221; Exhibit Opening Event
DESCRIPTION:The Museum of Durham History invites the public for a landmark, FREE event celebrating the centennial anniversary of Trinity College becoming Duke University. The special exhibition, 100 Years of Duke: Names to Remember, will open with a party on Friday, September 20, 2024, 6:00 PM...
END:VEVENT
END:VCALENDAR
