BEGIN:VCALENDAR
VERSION:2.0
PRODID:-//Museum of Durham History//NONSGML Events//EN
METHOD:REQUEST
BEGIN:VEVENT
UID:20260423T100302-1033293708-modh
DTSTAMP:20260423T100302
DTSTART:20240906T190000
DTEND:20240906T210000
SUMMARY:History Among Friends Book Talk Series: Miguel Chirinos
DESCRIPTION:As we look towards Hispanic Heritage Month (begins Sept. 15) the MoDH and Friends of the Durham Library proudly present a FREE author talk featuring Miguel Chirinos, discussing his book, Simon Bolivar in the United States of America. The event will take place on September 6th,...
END:VEVENT
END:VCALENDAR
