BEGIN:VCALENDAR
VERSION:2.0
PRODID:-//Museum of Durham History//NONSGML Events//EN
METHOD:REQUEST
BEGIN:VEVENT
UID:20260423T100524-906832659-modh
DTSTAMP:20260423T100524
DTSTART:20240810T100000
DTEND:20240810T140000
SUMMARY:&#8220;A Foothold in Freedom: Leaving Stagville and Starting the City of Durham&#8221;
DESCRIPTION:On August 10th, the Museum will be hosting the Friends of Geer Cemetery for their annual pop-up exhibit. From 10am to 2pm that day, the FoGC will be exploring African American heritage and the journey from slavery on the Stagville plantation to the thriving community they built in Durham.
END:VEVENT
END:VCALENDAR
