BEGIN:VCALENDAR
VERSION:2.0
PRODID:-//Museum of Durham History//NONSGML Events//EN
METHOD:REQUEST
BEGIN:VEVENT
UID:20260423T100400-1380788056-modh
DTSTAMP:20260423T100400
DTSTART:20240712T190000
DTEND:20240712T210000
SUMMARY:History Among Friends Book Talk Series: Dr. Gregory Freeland
DESCRIPTION:The MoDH and Friends of the Durham Library proudly present a FREE author talk featuring Dr. Gregory Freeland, discussing his book, Music and Black Community in Segregated North Carolina: “It’s all right…”. The event will take place on July 12th, 2024, at 7:00 PM at The Friends of...
END:VEVENT
END:VCALENDAR
