BEGIN:VCALENDAR
VERSION:2.0
PRODID:-//Museum of Durham History//NONSGML Events//EN
METHOD:REQUEST
BEGIN:VEVENT
UID:20260423T115421-268050049-modh
DTSTAMP:20260423T115421
DTSTART:20240608T150000
DTEND:20240608T170000
SUMMARY:Why Local History Matters: Honoring Jean Bradley Anderson and Her History of Durham County
DESCRIPTION:On Saturday, June 8, 2024, Durham County Library’s North Carolina Collection and the Museum of Durham History present a celebration in honor of historian Jean Bradley Anderson’s 100th birthday. Jean has written a number of books and articles on local and state history, including the definitive history of Durham County.
END:VEVENT
END:VCALENDAR
