BEGIN:VCALENDAR
VERSION:2.0
PRODID:-//Museum of Durham History//NONSGML Events//EN
METHOD:REQUEST
BEGIN:VEVENT
UID:20260423T100400-659415274-modh
DTSTAMP:20260423T100400
DTSTART:20240517T190000
DTEND:20240517T210000
SUMMARY:History Among Friends Book Talk Series: Chris Holaday
DESCRIPTION:The MoDH and Friends of the Durham Library proudly present a FREE author talk featuring Chris Holaday, discussing his book, Cracks in the Outfield Wall: The History of Baseball Integration in the Carolinas. The event will take place on May 17th, 2024, at 7:00 PM at The...
END:VEVENT
END:VCALENDAR
