BEGIN:VCALENDAR
VERSION:2.0
PRODID:-//Museum of Durham History//NONSGML Events//EN
METHOD:REQUEST
BEGIN:VEVENT
UID:20260423T100511-143598002-modh
DTSTAMP:20260423T100511
DTSTART:20240427T100000
DTEND:20240427T133000
SUMMARY:Art Wellness Exchange- Saturday Sessions
DESCRIPTION:Inspired by the show Stranger Things, and the MoDH exhibit Stranger Times, this program dives into various mental wellness themes.  Reserve your spot HERE Explore Mental Wellness with The Art Wellness Exchange Welcome to The Art Wellness Exchange...
END:VEVENT
END:VCALENDAR
