BEGIN:VCALENDAR
VERSION:2.0
PRODID:-//Museum of Durham History//NONSGML Events//EN
METHOD:REQUEST
BEGIN:VEVENT
UID:20260423T081420-409532847-modh
DTSTAMP:20260423T081420
DTSTART:20240503T190000
DTEND:20240503T210000
SUMMARY:History Among Friends Book Talk Series: Cora Darrah
DESCRIPTION:The MoDH and Friends of the Durham Library proudly present a FREE author talk featuring Cora Darrah, discussing her book, A Story of Durham: Told the Wright Way. The event will take place on May 3rd, 2024, at 7:00 PM at The Friends of Durham Library’s bookstore, ...
END:VEVENT
END:VCALENDAR
