BEGIN:VCALENDAR
VERSION:2.0
PRODID:-//Museum of Durham History//NONSGML Events//EN
METHOD:REQUEST
BEGIN:VEVENT
UID:20260423T062800-221502140-modh
DTSTAMP:20260423T062800
DTSTART:20240425T180000
DTEND:20240425T193000
SUMMARY:Art Wellness Exchange
DESCRIPTION:Inspired by the show Stranger Things, and the MoDH exhibit Stranger Times, this program dives into various mental wellness themes.  Reserve your spot HERE Explore Mental Wellness with The Art Wellness Exchange Welcome to The Art Wellness Exchange – a...
END:VEVENT
END:VCALENDAR
