BEGIN:VCALENDAR
VERSION:2.0
PRODID:-//Museum of Durham History//NONSGML Events//EN
METHOD:REQUEST
BEGIN:VEVENT
UID:20260423T063720-589920612-modh
DTSTAMP:20260423T063720
DTSTART:20240413T100000
DTEND:20240413T120000
SUMMARY:Experience the Magic of Storytelling Through Quilting at Library Fest
DESCRIPTION:Library Fest 2024 is back with an enchanting array of events celebrating the wonders of nature and the essence of storytelling. Cap off a week of festivities at the Main Library (300 N. Roxboro St.) on Saturday, April 13, from 10:00 AM to 12:00 PM for a captivating family workshop,...
END:VEVENT
END:VCALENDAR
