BEGIN:VCALENDAR
VERSION:2.0
PRODID:-//Museum of Durham History//NONSGML Events//EN
METHOD:REQUEST
BEGIN:VEVENT
UID:20260423T081419-67673268-modh
DTSTAMP:20260423T081419
DTSTART:20240503T090000
DTEND:20240503T120000
SUMMARY:F is for First Responders
DESCRIPTION:On Friday, May 3rd, the Museum will be hosting ERS vehicles, and invites local preschool groups to visit and learn about the essential workers who keep our communities safe. This FREE event takes place from 9am-12pm that day. This event is part of the programming for our current exhibit, Stranger Times,...
END:VEVENT
END:VCALENDAR
