BEGIN:VCALENDAR
VERSION:2.0
PRODID:-//Museum of Durham History//NONSGML Events//EN
METHOD:REQUEST
BEGIN:VEVENT
UID:20260423T100254-1309802573-modh
DTSTAMP:20260423T100254
DTSTART:20240329T190000
DTEND:20240329T210000
SUMMARY:History Among Friends Book Talk Series: Rosita Stevens-Holsey
DESCRIPTION:The Museum of Durham History and The Friends of the Durham Library, in partnership with the Pauli Murray Center for History and Social Justice, proudly present an author talk featuring Rosita Stevens-Holsey discussing her latest book, Pauli Murray: The...
END:VEVENT
END:VCALENDAR
