BEGIN:VCALENDAR
VERSION:2.0
PRODID:-//Museum of Durham History//NONSGML Events//EN
METHOD:REQUEST
BEGIN:VEVENT
UID:20260423T100415-1432328289-modh
DTSTAMP:20260423T100415
DTSTART:20240229T190000
DTEND:20240229T210000
SUMMARY:Durham History Trivia @ Bull City Solera
DESCRIPTION:On Thursday, February 29th, Bull City Solera & Taproom will be hosting the Museum for an evening of Durham-themed trivia! The questions will feature many themes, including general history, local sports, and Durham’s own Duffer Brothers and their hit show, Stranger Things. We might even drop some hints on...
END:VEVENT
END:VCALENDAR
