BEGIN:VCALENDAR
VERSION:2.0
PRODID:-//Museum of Durham History//NONSGML Events//EN
METHOD:REQUEST
BEGIN:VEVENT
UID:20260423T095200-911652653-modh
DTSTAMP:20260423T095200
DTSTART:20240407T140000
DTEND:20240407T160000
SUMMARY:Rabbi Steven Sager History Grove Dedication
DESCRIPTION:The Museum of Durham History and Beth El Synagogue invite you to join friends, family, and the many whose lives were touched by the late Rabbi Steven Gary Sager for a celebration of his immense impact on Durham’s Jewish community and beyond. On...
END:VEVENT
END:VCALENDAR
