BEGIN:VCALENDAR
VERSION:2.0
PRODID:-//Museum of Durham History//NONSGML Events//EN
METHOD:REQUEST
BEGIN:VEVENT
UID:20260423T100359-1635923054-modh
DTSTAMP:20260423T100359
DTSTART:20240503T190000
DTEND:20240503T000000
SUMMARY:Retro Film Series: &#8220;The Empire Strikes Back&#8221; and &#8220;The Road Warrior&#8221;
DESCRIPTION:The Museum of Durham History is partnering with the Carolina Theatre’s Retro Film Series to bring our supporters a special double-feature of The Empire Strikes Back and The Road Warrior. Come enjoy a night of sci-fi excitement!   The 2024 Retro Film Series is a part of the programming for the Fall 2023-Spring...
END:VEVENT
END:VCALENDAR
