BEGIN:VCALENDAR
VERSION:2.0
PRODID:-//Museum of Durham History//NONSGML Events//EN
METHOD:REQUEST
BEGIN:VEVENT
UID:20260423T100301-230928064-modh
DTSTAMP:20260423T100301
DTSTART:20240202T190000
DTEND:20240202T000000
SUMMARY:Retro Film Series: &#8220;The Goonies&#8221; and &#8220;Groundhog Day&#8221;
DESCRIPTION:The Museum of Durham History is partnering with the Carolina Theatre’s Retro Film Series to bring our supporters a special double-feature of The Goonies and Groundhog Day. Come enjoy a night of treasure hunting and holiday reporting!   The 2024 Retro Film Series is a part of the programming for...
END:VEVENT
END:VCALENDAR
