BEGIN:VCALENDAR
VERSION:2.0
PRODID:-//Museum of Durham History//NONSGML Events//EN
METHOD:REQUEST
BEGIN:VEVENT
UID:20260423T100301-1628912918-modh
DTSTAMP:20260423T100301
DTSTART:20240126T190000
DTEND:20240126T000000
SUMMARY:Retro Film Series: &#8220;Ghostbusters&#8221; and &#8220;Gremlins 2: The New Batch&#8221;
DESCRIPTION:The Museum of Durham History is partnering with the Carolina Theatre’s Retro Film Series to bring our supporters a special double-feature of Ghostbusters and Gremlins 2: The New Batch. Come enjoy a night of ghouls and goofiness!   The 2024 Retro Film Series is a part of the programming for...
END:VEVENT
END:VCALENDAR
