BEGIN:VCALENDAR
VERSION:2.0
PRODID:-//Museum of Durham History//NONSGML Events//EN
METHOD:REQUEST
BEGIN:VEVENT
UID:20260423T100632-1648188097-modh
DTSTAMP:20260423T100632
DTSTART:20240113T164000
DTEND:20240113T212000
SUMMARY:FantasticRealm Film Series: &#8220;Batman Returns&#8221; and &#8220;Army of Darkness&#8221;
DESCRIPTION:The Museum of Durham History is partnering with the Carolina Theatre’s FantasticRealm Film Series to bring our supporters showings of Batman Returns and Army of Darkness. Come enjoy a day full of thrilling adventure! FantasticRealm takes place over the weekend of January 12th, with each movie in the series playing at...
END:VEVENT
END:VCALENDAR
