BEGIN:VCALENDAR
VERSION:2.0
PRODID:-//Museum of Durham History//NONSGML Events//EN
METHOD:REQUEST
BEGIN:VEVENT
UID:20260423T100254-920619482-modh
DTSTAMP:20260423T100254
DTSTART:20231209T100000
DTEND:20231209T130000
SUMMARY:Downtown Durham Holiday Parade
DESCRIPTION:Durham Parks & Recreation is hosting the Annual Holiday Parade, right through downtown! On December 9th, starting at 10am, the parade will begin at the corner of Main St. & Dillard St., and end at the corner of Main St. & Buchanan St. The Museum is right along the...
END:VEVENT
END:VCALENDAR
