BEGIN:VCALENDAR
VERSION:2.0
PRODID:-//Museum of Durham History//NONSGML Events//EN
METHOD:REQUEST
BEGIN:VEVENT
UID:20260423T114038-1673804721-modh
DTSTAMP:20260423T114038
DTSTART:20231101T180000
DTEND:20231101T193000
SUMMARY:Partner event: Durham Arts &#038; Culture Candidates Forum
DESCRIPTION:Partner event alert! The Durham Arts & Culture Candidates Forum is an informative event in the lead-up to the local elections, and it will be held on November 1, 2023, from 6:00 to 7:30 pm at NorthStar Church of the Arts (220 West Geer Street). Doors will...
END:VEVENT
END:VCALENDAR
