BEGIN:VCALENDAR
VERSION:2.0
PRODID:-//Museum of Durham History//NONSGML Events//EN
METHOD:REQUEST
BEGIN:VEVENT
UID:20260423T114104-1505779730-modh
DTSTAMP:20260423T114104
DTSTART:20231208T190000
DTEND:20231208T230000
SUMMARY:Retro Film Series: &#8220;The Nightmare Before Christmas&#8221; and &#8220;Who Framed Roger Rabbit?&#8221;
DESCRIPTION:The Museum of Durham History is partnering with the Carolina Theatre to bring our supporters a special double-feature of The Nightmare Before Christmas and Who Framed Roger Rabbit? Come enjoy a night of animated antics! The 2023 Retro Film Series is a part of the programming for the Fall 2023-Spring...
END:VEVENT
END:VCALENDAR
