BEGIN:VCALENDAR
VERSION:2.0
PRODID:-//Museum of Durham History//NONSGML Events//EN
METHOD:REQUEST
BEGIN:VEVENT
UID:20260423T100136-1668057680-modh
DTSTAMP:20260423T100136
DTSTART:20231104T140000
DTEND:20231104T170000
SUMMARY:Retro Film Series: &#8220;Batman (1989)&#8221;
DESCRIPTION:Win free tickets to events during the 2023 Retro Film Series! The Museum of Durham History is partnering with the Carolina Theatre to bring our supporters a special showing of Batman (1989). Come enjoy a night of caped crusades! To win tickets, send the answers for all of the...
END:VEVENT
END:VCALENDAR
