BEGIN:VCALENDAR
VERSION:2.0
PRODID:-//Museum of Durham History//NONSGML Events//EN
METHOD:REQUEST
BEGIN:VEVENT
UID:20260423T100359-540355749-modh
DTSTAMP:20260423T100359
DTSTART:20231006T190000
DTEND:20231006T230000
SUMMARY:Retro Film Series: &#8220;Labyrinth&#8221; and &#8220;Jumanji&#8221;
DESCRIPTION:Win free tickets to events during the 2023 Retro Film Series! The Museum of Durham History is partnering with the Carolina Theatre to bring our supporters a special double-feature of Labyrinth and Jumanji. Come enjoy a night full of exciting action adventures! To win tickets, send the answers for all...
END:VEVENT
END:VCALENDAR
