BEGIN:VCALENDAR
VERSION:2.0
PRODID:-//Museum of Durham History//NONSGML Events//EN
METHOD:REQUEST
BEGIN:VEVENT
UID:20260423T100302-1124018832-modh
DTSTAMP:20260423T100302
DTSTART:20230929T190000
DTEND:20230929T230000
SUMMARY:Retro Film Series: &#8220;The Princess Bride&#8221; and &#8220;Willow&#8221;
DESCRIPTION:Win free tickets to events during the 2023 Retro Film Series! The Museum of Durham History is partnering with the Carolina Theatre to bring our supporters a special double-feature of The Princess Bride and Willow. Come enjoy a night full of fairy-tale adventures! To win tickets, send the answers for all...
END:VEVENT
END:VCALENDAR
