BEGIN:VCALENDAR
VERSION:2.0
PRODID:-//Museum of Durham History//NONSGML Events//EN
METHOD:REQUEST
BEGIN:VEVENT
UID:20260423T100400-881510701-modh
DTSTAMP:20260423T100400
DTSTART:20231015T100000
DTEND:20231015T130000
SUMMARY:Annual Neighborhoods Hike: West Durham, East Campus &#038; Beyond
DESCRIPTION:Where did Madonna take early dance lessons? Why is Walltown called Walltown? Who was Booker T. Spicely? Which famous songwriter was born behind Monuts? Where was the West Durham airport? Why wasn’t Wallace Wade built near Ninth Street? Where was Pinhook? What’s...
END:VEVENT
END:VCALENDAR
