BEGIN:VCALENDAR
VERSION:2.0
PRODID:-//Museum of Durham History//NONSGML Events//EN
METHOD:REQUEST
BEGIN:VEVENT
UID:20260423T100303-75377422-modh
DTSTAMP:20260423T100303
DTSTART:20230819T100000
DTEND:20230819T140000
SUMMARY:&#8220;Geer Cemetery: A Legacy of Resilience&#8221; Pop-Up Exhibit
DESCRIPTION:On Saturday, August 19th, be sure to visit the MoDH for a pop-up exhibit from the Friends of Geer Cemetery! The exhibit will be on display that day from 10am-2pm. We always enjoy working with the FoGC and we hope that our friends and supporters will be able to...
END:VEVENT
END:VCALENDAR
