BEGIN:VCALENDAR
VERSION:2.0
PRODID:-//Museum of Durham History//NONSGML Events//EN
METHOD:REQUEST
BEGIN:VEVENT
UID:20260423T094218-656450463-modh
DTSTAMP:20260423T094218
DTSTART:20230908T180000
DTEND:20230908T200000
SUMMARY:&#8220;Stranger Times&#8221; Exhibit Opening Celebration
DESCRIPTION:On September 8th, at 6pm, we will be celebrating the official opening of our Fall 2023 main gallery exhibit, Stranger Times. This visually-stunning project uses the idea of the “Upside-Down” from the Emmy-nominated Netflix series Stranger Things as an analogy for the experience...
END:VEVENT
END:VCALENDAR
