BEGIN:VCALENDAR
VERSION:2.0
PRODID:-//Museum of Durham History//NONSGML Events//EN
METHOD:REQUEST
BEGIN:VEVENT
UID:20260423T112911-400920750-modh
DTSTAMP:20260423T112911
DTSTART:20230713T190000
DTEND:20230713T210000
SUMMARY:Durham History Trivia, 2023
DESCRIPTION:The Museum of Durham History is teaming up again this year with Bull City Ciderworks and TP Trivia to bring you a night of Durham History Trivia! On July 13th from 7-9pm, join Tyler and Paxton at BCC’s Durham location (305 S Roxboro St., Durham NC 27701) for...
END:VEVENT
END:VCALENDAR
