BEGIN:VCALENDAR
VERSION:2.0
PRODID:-//Museum of Durham History//NONSGML Events//EN
METHOD:REQUEST
BEGIN:VEVENT
UID:20260423T100134-296099623-modh
DTSTAMP:20260423T100134
DTSTART:20230428T100000
DTEND:20230428T130000
SUMMARY:Share Your Story at Library Fest (Southwest Regional Library)
DESCRIPTION:Share Your Story with the Museum of Durham History – Library Fest 2023 The Museum of Durham History is bringing its Share Your Story Kiosk to the Durham County Library  Library Fest. Everyone has a story to tell about Durham. The tabletop touch screen offers...
END:VEVENT
END:VCALENDAR
