BEGIN:VCALENDAR
VERSION:2.0
PRODID:-//Museum of Durham History//NONSGML Events//EN
METHOD:REQUEST
BEGIN:VEVENT
UID:20260423T100135-483864454-modh
DTSTAMP:20260423T100135
DTSTART:20230425T100000
DTEND:20230425T130000
SUMMARY:Share Your Story at Library Fest (Main Library)
DESCRIPTION:Share Your Story with the Museum of Durham History – Library Fest 2023 The Museum of Durham History is bringing its Share Your Story Kiosk to the Durham County Library  Library Fest. Everyone has a story to tell about Durham. The tabletop touch screen offers...
END:VEVENT
END:VCALENDAR
