BEGIN:VCALENDAR
VERSION:2.0
PRODID:-//Museum of Durham History//NONSGML Events//EN
METHOD:REQUEST
BEGIN:VEVENT
UID:20260423T081422-633239301-modh
DTSTAMP:20260423T081422
DTSTART:20230506T130000
DTEND:20230506T180000
SUMMARY:Biking Durham&#8217;s hiSTORIES
DESCRIPTION:The Museum of Durham History is very excited to partner with Bike Durham in kicking off Bike Month! This Durham history-themed bike tour will be led by historian and Durham native Ernest Dollar (who also happens to be the director of the City of Raleigh...
END:VEVENT
END:VCALENDAR
