BEGIN:VCALENDAR
VERSION:2.0
PRODID:-//Museum of Durham History//NONSGML Events//EN
METHOD:REQUEST
BEGIN:VEVENT
UID:20260423T063700-1976800093-modh
DTSTAMP:20260423T063700
DTSTART:20230428T235900
DTEND:20230428T235900
SUMMARY:&#8220;Stranger Times&#8221; Submission Deadline
DESCRIPTION:What was it like to be away from school for so long? How did you cope with not seeing friends, peers, or teachers for so long? What did this experience teach you? The Museum of Durham...
END:VEVENT
END:VCALENDAR
