BEGIN:VCALENDAR
VERSION:2.0
PRODID:-//Museum of Durham History//NONSGML Events//EN
METHOD:REQUEST
BEGIN:VEVENT
UID:20260423T081421-1573339373-modh
DTSTAMP:20260423T081421
DTSTART:20230330T180000
DTEND:20230330T200000
SUMMARY:Black Capitalism Forum
DESCRIPTION:The Museum of Durham History is partnering with Provident1898 to present Black Capitalism: Lessons from Soul City on March 30 at 5:30 PM, a program in support of the Museum’s The Life and Legacy of Floyd B. McKissick Sr. exhibit. This free event is open to the public and will...
END:VEVENT
END:VCALENDAR
