BEGIN:VCALENDAR
VERSION:2.0
PRODID:-//Museum of Durham History//NONSGML Events//EN
METHOD:REQUEST
BEGIN:VEVENT
UID:20260423T113033-535923352-modh
DTSTAMP:20260423T113033
DTSTART:20230218T140000
DTEND:20230218T170000
SUMMARY:&#8220;L is for Legacy&#8221; Pop-Up at the Durham County Library (Adolescent)
DESCRIPTION:The Museum of Durham History is partnering with the Durham County Library to present L is for Legacy– a distinct part of The Life and Legacy of Floyd B. McKissick Sr. exhibit, created just for kids. This FREE interactive program at the Main Library (300...
END:VEVENT
END:VCALENDAR
