BEGIN:VCALENDAR
VERSION:2.0
PRODID:-//Museum of Durham History//NONSGML Events//EN
METHOD:REQUEST
BEGIN:VEVENT
UID:20260423T052635-874211073-modh
DTSTAMP:20260423T052635
DTSTART:20221118T173000
DTEND:20221118T200000
SUMMARY:The Life and Legacy of Floyd B. McKissick Sr. Exhibit Opening at MoDH
DESCRIPTION:The Museum of Durham History is excited to announce an opening event dedicated to their latest exhibit, The Life and Legacy of Floyd B. McKissick Sr.  To celebrate this landmark exhibit, they are inviting the public to 500 W. Main Street on Friday, November 18th at 5:30PM for a complimentary event...
END:VEVENT
END:VCALENDAR
