BEGIN:VCALENDAR
VERSION:2.0
PRODID:-//Museum of Durham History//NONSGML Events//EN
METHOD:REQUEST
BEGIN:VEVENT
UID:20260423T050817-1701247907-modh
DTSTAMP:20260423T050817
DTSTART:20221104T000000
DTEND:20221104T000000
SUMMARY:Floyd B. McKissick Sr. Satellite Exhibit Opening at NCCU Turner Law Library
DESCRIPTION:In what would have been the year of his 100th birthday, the Museum of Durham History is exploring the lasting impact of one of Durham’s most influential figures. This innovative exhibit, The Life and Legacy of Floyd B. McKissick Sr., will officially open for viewing on Friday, November...
END:VEVENT
END:VCALENDAR
