BEGIN:VCALENDAR
VERSION:2.0
PRODID:-//Museum of Durham History//NONSGML Events//EN
METHOD:REQUEST
BEGIN:VEVENT
UID:20260423T065355-1090518173-modh
DTSTAMP:20260423T065355
DTSTART:20220916T180000
DTEND:20220916T200000
SUMMARY:Paint-Along with MoDH
DESCRIPTION:As a send-off to summer while the weather’s still nice, we are hosting a paint-along tutorial under the gazebo for September’s Third Friday, 9/16 from 6-8pm. Valerie Lainfiesta will lead us in creating a Durham-themed painting– the design we’re keeping secret and will announce soon! ...
END:VEVENT
END:VCALENDAR
