BEGIN:VCALENDAR
VERSION:2.0
PRODID:-//Museum of Durham History//NONSGML Events//EN
METHOD:REQUEST
BEGIN:VEVENT
UID:20260423T083257-1993299290-modh
DTSTAMP:20260423T083257
DTSTART:20220819T180000
DTEND:20220819T200000
SUMMARY:&#8216;Project Aeschylus&#8217; @ MoDH for August 3rd Friday!
DESCRIPTION:The Museum of Durham History and the Durham Production Company are excited to announce an exclusive demonstration of the DPC’s Project Aeschylus for Durham’s August Third Friday Art Walk. Between 6 and 8pm on August 19th, head over to the Museum of Durham History at 500 W...
END:VEVENT
END:VCALENDAR
