BEGIN:VCALENDAR
VERSION:2.0
PRODID:-//Museum of Durham History//NONSGML Events//EN
METHOD:REQUEST
BEGIN:VEVENT
UID:20260423T100703-1863805203-modh
DTSTAMP:20260423T100703
DTSTART:20220910T100000
DTEND:20220910T110000
SUMMARY:John Hope Franklin History Grove Dedication
DESCRIPTION:Earlier this spring, we installed a new History Grove plaque to accompany the bench honoring Dr. John Hope Franklin. Please join us for a dedication ceremony the morning of September 10th at 10AM to highlight Dr. Franklin and his legacy. Among his many accomplishments, Dr. Franklin received...
END:VEVENT
END:VCALENDAR
