BEGIN:VCALENDAR
VERSION:2.0
PRODID:-//Museum of Durham History//NONSGML Events//EN
METHOD:REQUEST
BEGIN:VEVENT
UID:20260423T100137-534227231-modh
DTSTAMP:20260423T100137
DTSTART:20220909T193000
DTEND:20220909T210000
SUMMARY:Movie Night at Durham Central Park
DESCRIPTION:On September 9th, from 7-9:30pm, join MoDH at Durham Central Park for a Movie Night under the stars! We will be showing Food Town, a short documentary that interviews 6 different Durham-based chefs about the honor of being “The South’s Tastiest Town”. After that great presentation, we know...
END:VEVENT
END:VCALENDAR
