BEGIN:VCALENDAR
VERSION:2.0
PRODID:-//Museum of Durham History//NONSGML Events//EN
METHOD:REQUEST
BEGIN:VEVENT
UID:20260423T081418-1530405288-modh
DTSTAMP:20260423T081418
DTSTART:20220721T190000
DTEND:20220721T210000
SUMMARY:Durham History Trivia At Bull City Ciderworks!
DESCRIPTION:On Thursday, July 21st, from 7-9pm, join us at Bull City Ciderworks for a fun-filled night of Durham History themed trivia. Hosted by TP Trivia, the content could be anything about Durham: Duke and NCCU, Black Wall Street, Civil Rights, the Bulls, Dining Out in Durham (hint hint),...
END:VEVENT
END:VCALENDAR
