BEGIN:VCALENDAR
VERSION:2.0
PRODID:-//Museum of Durham History//NONSGML Events//EN
METHOD:REQUEST
BEGIN:VEVENT
UID:20260423T063700-144040557-modh
DTSTAMP:20260423T063700
DTSTART:20221019T190000
DTEND:20221019T210000
SUMMARY:Dining Series 2022: Vin Rouge
DESCRIPTION:The Museum of Durham History is pleased to announce that we are partnering with five popular Durham restaurants to host a special Dining Series!  As part of the programming surrounding our latest exhibit, Dining Out In Durham, we will feature monthly dinners where guests will experience...
END:VEVENT
END:VCALENDAR
