BEGIN:VCALENDAR
VERSION:2.0
PRODID:-//Museum of Durham History//NONSGML Events//EN
METHOD:REQUEST
BEGIN:VEVENT
UID:20260423T100343-976422367-modh
DTSTAMP:20260423T100343
DTSTART:20220528T101500
DTEND:20220528T113000
SUMMARY:Larry Stogner History Grove Dedication 5/28
DESCRIPTION:On Saturday, May 28th, of Memorial Day Weekend, the Museum is celebrating the dedication of a History Grove for Larry Stogner. Mr. Stogner anchored the local Durham ABC-11 News Channel for 40 years before his passing in 2016. This new History Grove was spear-headed by The Friends of Sandy Creek Park,...
END:VEVENT
END:VCALENDAR
