BEGIN:VCALENDAR
VERSION:2.0
PRODID:-//Museum of Durham History//NONSGML Events//EN
METHOD:REQUEST
BEGIN:VEVENT
UID:20260423T081419-1881785268-modh
DTSTAMP:20260423T081419
DTSTART:20220616T180000
DTEND:20220616T200000
SUMMARY:Dining Series 2022: Parizade
DESCRIPTION:The Museum of Durham History is pleased to announce that we are partnering with five popular Durham restaurants to host a special Dining Series!  As part of the programming surrounding our latest exhibit, Dining Out In Durham, we will feature monthly dinners where ticket holders will experience one-of-a-kind...
END:VEVENT
END:VCALENDAR
