BEGIN:VCALENDAR
VERSION:2.0
PRODID:-//Museum of Durham History//NONSGML Events//EN
METHOD:REQUEST
BEGIN:VEVENT
UID:20260423T063659-1301235293-modh
DTSTAMP:20260423T063659
DTSTART:20220506T180000
DTEND:20220506T200000
SUMMARY:&#8216;Dining Out in Durham&#8217; Exhibit Opening Reception
DESCRIPTION:Did you know that besides the “Bull City” and “City of Medicine,” Durham has also been called the “Tastiest Town in the South” and “America’s Foodiest Small Town?” The Museum of Durham History is thrilled to explore the story of Durham’s restaurants and how community members...
END:VEVENT
END:VCALENDAR
