BEGIN:VCALENDAR
VERSION:2.0
PRODID:-//Museum of Durham History//NONSGML Events//EN
METHOD:REQUEST
BEGIN:VEVENT
UID:20260423T081418-48043962-modh
DTSTAMP:20260423T081418
DTSTART:20220331T190000
DTEND:20220331T210000
SUMMARY:Ernie Barnes- Football, Art, and Durham
DESCRIPTION:Join the Museum of Durham History on Thursday, March 31st at 7PM at the Durham Arts Council PSI Theater (120 Morris Street) for a special conversation with Deidre Barnes, the daughter of Durham artist and sports legend Ernie Barnes, on her father’s legacy. You’ll hear about the Sugar Shack‘s creator,...
END:VEVENT
END:VCALENDAR
